BEGIN:VCALENDAR
VERSION:2.0
PRODID:-//Library Market//iCal Export//EN
BEGIN:VEVENT
SUMMARY:Shopping Smart on a Budget
UID:10646
DTSTAMP:20260423T093400Z
DTSTART:20260615T223000Z
DTEND:20260615T233000Z
LOCATION:Frazee-Harris Memorial Library, 111 Historic Front St., Garyville
 , LA 70051, United States
ROOM: Meeting Room
DESCRIPTION:Shopping Smart on a Budget is an interactive nutrition worksh
 op that helps adults learn practical strategies to stretch their food doll
 ars while still eating healthy. Participants will learn how to plan ahead,
  compare prices, read food labels and unit prices, use coupons and apps, a
 nd make cost‑effective choices using MyPlate. The workshop also covers m
 eal planning, food safety, and reducing food waste—giving participants r
 eal‑life tools they can use right away to save money at the grocery stor
 e and at home. This program is hosted in partnership with the LSU AgCenter
 . 
URL:https://stjohnlib.librarycalendar.com/event/shopping-smart-budget-1064
 6
END:VEVENT
END:VCALENDAR
