BEGIN:VCALENDAR
VERSION:2.0
PRODID:-//Library Market//iCal Export//EN
BEGIN:VEVENT
SUMMARY:America 250: Colonial Games
UID:10661
DTSTAMP:20260422T095000Z
DTSTART:20260702T200000Z
DTEND:20260702T230000Z
LOCATION:Leroy D. Williams Memorial Library, 1482 Highway 44, Reserve, LA 
 70084, United States
ROOM: America 250: Colonial Games
DESCRIPTION:Celebrate America&#039;s 250th anniversary with us by playing 
 games people played way back at our country&#039;s founding. We&#039;ll ha
 ve a family-friendly afternoon of activity tables for folks to come by and
  play, just like in the &quot;good ol&#039; days&quot;! Step back into the
  pre-TV days and enjoy a simpler time with checkers, marbles, dominoes, ri
 ng toss, and more.
URL:https://stjohnlib.librarycalendar.com/event/colonial-games-10661
END:VEVENT
END:VCALENDAR
