BEGIN:VCALENDAR
VERSION:2.0
PRODID:-//Library Market//iCal Export//EN
BEGIN:VEVENT
SUMMARY:Beaded Botanicals
UID:10754
DTSTAMP:20260421T211200Z
DTSTART:20260707T190000Z
DTEND:20260707T210000Z
LOCATION:Frazee-Harris Memorial Library, 111 Historic Front St., Garyville
 , LA 70051, United States
ROOM: Meeting Room
DESCRIPTION:Get ready to create the cutest plant you&#039;ll never have to
  water! Join us for a fun, hands-on craft where we&#039;ll turn colorful b
 eads into adorable succulent plants. Whether you&#039;re a crafting pro or
  just here for the vibes, you&#039;ll leave with a tiny masterpiece that s
 tays perfect forever. No green thumb required—just bring your creativity
 !
URL:https://stjohnlib.librarycalendar.com/event/beaded-botanicals-10754
END:VEVENT
END:VCALENDAR
