BEGIN:VCALENDAR
VERSION:2.0
PRODID:-//Library Market//iCal Export//EN
BEGIN:VEVENT
SUMMARY:K-Pop Drawing Workshop
UID:10823
DTSTAMP:20260423T093400Z
DTSTART:20260616T170000Z
DTEND:20260616T200000Z
LOCATION:Leroy D. Williams Memorial Library, 1482 Highway 44, Reserve, LA 
 70084, United States
ROOM: Multipurpose Room
DESCRIPTION:During this three-hour workshop with Young Rembrandts of South
 east Louisiana, kids ages 6 to 12 will learn how to draw anime characters 
 in a K-Pop style that includes specialty eyes, stylish outfits, and stage-
 ready poses. K-Pop artists will use color pencils, Sharpies, and markers t
 o bring every detail to life on large 11x17 paper. It&#039;s K-Pop energy 
 meets anime artistry, a perfect mix of art and imagination inspired by one
  of the most talked-about movies of 2025!
URL:https://stjohnlib.librarycalendar.com/event/k-pop-drawing-workshop-108
 23
END:VEVENT
END:VCALENDAR
