BEGIN:VCALENDAR
VERSION:2.0
PRODID:-//Library Market//iCal Export//EN
BEGIN:VEVENT
SUMMARY:&#039;Los Libros Book Talk with Carlos Diaz: &quot;How to Commit a
  Post-colonial Murder&quot;
UID:10874
DTSTAMP:20260423T093400Z
DTSTART:20260724T050000Z
DTEND:20260724T050000Z
LOCATION:
DESCRIPTION:Are you looking for your next great read? Then, visit our Face
 book page or YouTube Channel to watch this video series where Carlos Diaz,
  our Reference Associate, talks about great novels readily available for c
 heckout in the library. This week&#039;s featured book is &quot;How to Co
 mmit a Post-colonial Murder&quot; by Nina McConigley, a bold, inventive, a
 nd fiercely original debut novel about history, language, trauma, and inde
 pendence. Were you intrigued by his Book Talk? Check out the book from yo
 ur local library or the Hoopla or Libby app on your phone or tablet!
URL:https://stjohnlib.librarycalendar.com/event/los-libros-book-talk-carlo
 s-diaz-how-commit-post-colonial-murder-10874
END:VEVENT
END:VCALENDAR
