BEGIN:VCALENDAR
VERSION:2.0
PRODID:-//Library Market//iCal Export//EN
BEGIN:VEVENT
SUMMARY:Tech Basics: Outsmart Your Smartphone
UID:10938
DTSTAMP:20260423T093400Z
DTSTART:20260905T160000Z
DTEND:20260905T170000Z
LOCATION:Leroy D. Williams Memorial Library, 1482 Highway 44, Reserve, LA 
 70084, United States
ROOM: Tech Basics: Outsmart Your Smartphone
DESCRIPTION:Join the  Leroy D. Williams Memorial Library staff for beginn
 er gadget classes. Learn the basics of using your iPhone or iPad, connecti
 ng to Wi-Fi, exploring apps, and online safety.
URL:https://stjohnlib.librarycalendar.com/event/tech-basics-outsmart-your-
 smartphone-10938
END:VEVENT
END:VCALENDAR
